BEGIN:VCALENDAR
VERSION:2.0
PRODID:spatie/icalendar-generator
DESCRIPTION:Events from Dawson Creek Literacy Society
X-WR-CALDESC:Events from Dawson Creek Literacy Society
REFRESH-INTERVAL;VALUE=DURATION:PT1440M
X-PUBLISHED-TTL:PT1440M
BEGIN:VTIMEZONE
TZID:America/Dawson_Creek
BEGIN:STANDARD
DTSTART:20230223T180000Z
TZOFFSETFROM:-0700
TZOFFSETTO:-0700
END:STANDARD
END:VTIMEZONE
BEGIN:VTIMEZONE
TZID:UTC
BEGIN:STANDARD
DTSTART:20250727T112644Z
TZOFFSETFROM:+0000
TZOFFSETTO:+0000
END:STANDARD
END:VTIMEZONE
BEGIN:VEVENT
UID:8484-107
DTSTAMP:20260423T112644Z
SUMMARY:Financial Literacy Workshop
LOCATION:Lake View Learning Centre 929 - 102 Avenue  Dawson Creek  V1G 2B5
ORGANIZER;CN=Dawson Creek Literacy Society:MAILTO:dawcrls@gmail.com
DTSTART;TZID=America/Dawson_Creek:20231120T180000
DTEND;TZID=America/Dawson_Creek:20231120T200000
X-ALT-DESC;FMTTYPE=TEXT/HTML:Basic Banking and Budgeting Want to gain a bet
 ter handle on your finances\, or get some questions answered by financial 
 professionals in your community? We're here to help. Call Lake View Learni
 ng Centre to Register 250-782-4211
CATEGORIES:Workshops
URL;VALUE=URI:https://dawsoncreekliteracy.ca/mc-events/financial-literacy-w
 orkshop/
METHOD:PUBLISH
END:VEVENT
END:VCALENDAR