BEGIN:VCALENDAR
VERSION:2.0
PRODID:spatie/icalendar-generator
DESCRIPTION:Events from Dawson Creek Literacy Society
X-WR-CALDESC:Events from Dawson Creek Literacy Society
REFRESH-INTERVAL;VALUE=DURATION:PT1440M
X-PUBLISHED-TTL:PT1440M
BEGIN:VTIMEZONE
TZID:America/Dawson_Creek
BEGIN:STANDARD
DTSTART:20230412T000000Z
TZOFFSETFROM:-0700
TZOFFSETTO:-0700
END:STANDARD
END:VTIMEZONE
BEGIN:VTIMEZONE
TZID:UTC
BEGIN:STANDARD
DTSTART:20250728T095149Z
TZOFFSETFROM:+0000
TZOFFSETTO:+0000
END:STANDARD
END:VTIMEZONE
BEGIN:VEVENT
UID:6475-106
DTSTAMP:20260424T095149Z
SUMMARY:Closed for Winter Break
LOCATION:
ORGANIZER;CN=Dawson Creek Literacy Society:MAILTO:dawcrls@gmail.com
RRULE:FREQ=DAILY;COUNT=0
DTSTART;TZID=America/Dawson_Creek;VALUE=DATE:20240107
DTEND;TZID=America/Dawson_Creek;VALUE=DATE:20240108
X-ALT-DESC;FMTTYPE=TEXT/HTML:Our office will be closed from December 22nd t
 o January 7th. Happy holidays and have a safe and joyous season!
CATEGORIES:Closures
URL;VALUE=URI:https://dawsoncreekliteracy.ca/mc-events/closed-for-winter-br
 eak/?mc_id=6475
METHOD:PUBLISH
END:VEVENT
END:VCALENDAR